<?xml version="1.0" encoding="UTF-8"?>
<Capabilities xmlns="http://www.opengis.net/wmts/1.0"
xmlns:ows="http://www.opengis.net/ows/1.1"
xmlns:xlink="http://www.w3.org/1999/xlink"
xmlns:xsi="http://www.w3.org/2001/XMLSchema-instance"
xmlns:gml="http://www.opengis.net/gml"
xsi:schemaLocation="http://www.opengis.net/wmts/1.0 http://schemas.opengis.net/wmts/1.0/wmtsGetCapabilities_response.xsd"
version="1.0.0">
<!-- Service Identification --> <ows:ServiceIdentification>
<ows:Title>SinkholesAug212026</ows:Title>
<ows:ServiceType>OGC WMTS</ows:ServiceType>
<ows:ServiceTypeVersion>1.0.0</ows:ServiceTypeVersion>
</ows:ServiceIdentification> <!-- Operations Metadata --> <ows:OperationsMetadata>
<ows:Operation name="GetCapabilities">
<ows:DCP>
<ows:HTTP>
<ows:Get xlink:href="https://greenecountyassessor.org/arcgis/rest/services/SinkholesAug212026/MapServer/WMTS/1.0.0/WMTSCapabilities.xml">
<ows:Constraint name="GetEncoding">
<ows:AllowedValues>
<ows:Value>RESTful</ows:Value>
</ows:AllowedValues>
</ows:Constraint>
</ows:Get>
<!-- add KVP binding in 10.1 -->
<ows:Get xlink:href="https://greenecountyassessor.org/arcgis/rest/services/SinkholesAug212026/MapServer/WMTS?">
<ows:Constraint name="GetEncoding">
<ows:AllowedValues>
<ows:Value>KVP</ows:Value>
</ows:AllowedValues>
</ows:Constraint>
</ows:Get>
</ows:HTTP>
</ows:DCP>
</ows:Operation>
<ows:Operation name="GetTile">
<ows:DCP>
<ows:HTTP>
<ows:Get xlink:href="https://greenecountyassessor.org/arcgis/rest/services/SinkholesAug212026/MapServer/WMTS/tile/1.0.0/">
<ows:Constraint name="GetEncoding">
<ows:AllowedValues>
<ows:Value>RESTful</ows:Value>
</ows:AllowedValues>
</ows:Constraint>
</ows:Get>
<ows:Get xlink:href="https://greenecountyassessor.org/arcgis/rest/services/SinkholesAug212026/MapServer/WMTS?">
<ows:Constraint name="GetEncoding">
<ows:AllowedValues>
<ows:Value>KVP</ows:Value>
</ows:AllowedValues>
</ows:Constraint>
</ows:Get>
</ows:HTTP>
</ows:DCP>
</ows:Operation>
</ows:OperationsMetadata> <Contents>
<!--Layer--> <Layer>
<ows:Title>SinkholesAug212026</ows:Title> <ows:Identifier>SinkholesAug212026</ows:Identifier>
<ows:BoundingBox crs="urn:ogc:def:crs:EPSG::102697">
<ows:LowerCorner>1313285.8599495096 457397.5173226387</ows:LowerCorner>
<ows:UpperCorner>1476674.314011846 581543.0410522026</ows:UpperCorner>
</ows:BoundingBox> <ows:WGS84BoundingBox crs="urn:ogc:def:crs:OGC:2:84">
<ows:LowerCorner>-93.626548797877 37.08447243813187</ows:LowerCorner>
<ows:UpperCorner>-93.06138497032627 37.42940412784654</ows:UpperCorner>
</ows:WGS84BoundingBox>
<Style isDefault="true">
<ows:Title>Default Style</ows:Title>
<ows:Identifier>default</ows:Identifier>
</Style>
<Format>image/jpgpng</Format>
<TileMatrixSetLink>
<TileMatrixSet>default028mm</TileMatrixSet>
</TileMatrixSetLink>
<ResourceURL format="image/jpgpng" resourceType="tile" template="https://greenecountyassessor.org/arcgis/rest/services/SinkholesAug212026/MapServer/WMTS/tile/1.0.0/SinkholesAug212026/{Style}/{TileMatrixSet}/{TileMatrix}/{TileRow}/{TileCol}" />
</Layer> <!--TileMatrixSet-->
<TileMatrixSet>
<ows:Title>TileMatrix using 0.28mm</ows:Title>
<ows:Abstract>The tile matrix set that has scale values calculated based on the dpi defined by OGC specification (dpi assumes 0.28mm as the physical distance of a pixel).</ows:Abstract> <ows:Identifier>default028mm</ows:Identifier>
<ows:SupportedCRS>urn:ogc:def:crs:EPSG::102697</ows:SupportedCRS>
<TileMatrix>
<ows:Identifier>0</ows:Identifier>
<ScaleDenominator>272989.38673237007</ScaleDenominator>
<TopLeftCorner>-1.68069E7 1.97986E7</TopLeftCorner> <TileWidth>256</TileWidth> <TileHeight>256</TileHeight>
<MatrixWidth>285</MatrixWidth> <MatrixHeight>302</MatrixHeight>
</TileMatrix>
<TileMatrix>
<ows:Identifier>1</ows:Identifier>
<ScaleDenominator>136494.69336618503</ScaleDenominator>
<TopLeftCorner>-1.68069E7 1.97986E7</TopLeftCorner> <TileWidth>256</TileWidth> <TileHeight>256</TileHeight>
<MatrixWidth>570</MatrixWidth> <MatrixHeight>603</MatrixHeight>
</TileMatrix>
<TileMatrix>
<ows:Identifier>2</ows:Identifier>
<ScaleDenominator>68247.34668309252</ScaleDenominator>
<TopLeftCorner>-1.68069E7 1.97986E7</TopLeftCorner> <TileWidth>256</TileWidth> <TileHeight>256</TileHeight>
<MatrixWidth>1140</MatrixWidth> <MatrixHeight>1206</MatrixHeight>
</TileMatrix>
<TileMatrix>
<ows:Identifier>3</ows:Identifier>
<ScaleDenominator>34123.67334154626</ScaleDenominator>
<TopLeftCorner>-1.68069E7 1.97986E7</TopLeftCorner> <TileWidth>256</TileWidth> <TileHeight>256</TileHeight>
<MatrixWidth>2279</MatrixWidth> <MatrixHeight>2411</MatrixHeight>
</TileMatrix>
<TileMatrix>
<ows:Identifier>4</ows:Identifier>
<ScaleDenominator>17061.8366712456</ScaleDenominator>
<TopLeftCorner>-1.68069E7 1.97986E7</TopLeftCorner> <TileWidth>256</TileWidth> <TileHeight>256</TileHeight>
<MatrixWidth>4557</MatrixWidth> <MatrixHeight>4821</MatrixHeight>
</TileMatrix>
<TileMatrix>
<ows:Identifier>5</ows:Identifier>
<ScaleDenominator>8530.9183356228</ScaleDenominator>
<TopLeftCorner>-1.68069E7 1.97986E7</TopLeftCorner> <TileWidth>256</TileWidth> <TileHeight>256</TileHeight>
<MatrixWidth>9114</MatrixWidth> <MatrixHeight>9641</MatrixHeight>
</TileMatrix>
<TileMatrix>
<ows:Identifier>6</ows:Identifier>
<ScaleDenominator>4265.45916733893</ScaleDenominator>
<TopLeftCorner>-1.68069E7 1.97986E7</TopLeftCorner> <TileWidth>256</TileWidth> <TileHeight>256</TileHeight>
<MatrixWidth>18227</MatrixWidth> <MatrixHeight>19282</MatrixHeight>
</TileMatrix>
<TileMatrix>
<ows:Identifier>7</ows:Identifier>
<ScaleDenominator>2132.729584141936</ScaleDenominator>
<TopLeftCorner>-1.68069E7 1.97986E7</TopLeftCorner> <TileWidth>256</TileWidth> <TileHeight>256</TileHeight>
<MatrixWidth>36454</MatrixWidth> <MatrixHeight>38563</MatrixHeight>
</TileMatrix>
<TileMatrix>
<ows:Identifier>8</ows:Identifier>
<ScaleDenominator>1066.3647915984968</ScaleDenominator>
<TopLeftCorner>-1.68069E7 1.97986E7</TopLeftCorner> <TileWidth>256</TileWidth> <TileHeight>256</TileHeight>
<MatrixWidth>72908</MatrixWidth> <MatrixHeight>77126</MatrixHeight>
</TileMatrix>
<TileMatrix>
<ows:Identifier>9</ows:Identifier>
<ScaleDenominator>533.1823957992484</ScaleDenominator>
<TopLeftCorner>-1.68069E7 1.97986E7</TopLeftCorner> <TileWidth>256</TileWidth> <TileHeight>256</TileHeight>
<MatrixWidth>145816</MatrixWidth> <MatrixHeight>154251</MatrixHeight>
</TileMatrix>
<TileMatrix>
<ows:Identifier>10</ows:Identifier>
<ScaleDenominator>266.5911978996242</ScaleDenominator>
<TopLeftCorner>-1.68069E7 1.97986E7</TopLeftCorner> <TileWidth>256</TileWidth> <TileHeight>256</TileHeight>
<MatrixWidth>291631</MatrixWidth> <MatrixHeight>308501</MatrixHeight>
</TileMatrix>
</TileMatrixSet>
</Contents>
<ServiceMetadataURL xlink:href="https://greenecountyassessor.org/arcgis/rest/services/SinkholesAug212026/MapServer/WMTS/1.0.0/WMTSCapabilities.xml" /> </Capabilities>
