{
 "currentVersion": 10.41,
 "serviceDescription": "",
 "mapName": "Layers",
 "description": "",
 "copyrightText": "",
 "supportsDynamicLayers": true,
 "layers": [
  {
   "id": 0,
   "name": "1000' Boundary of Schools / Daycares",
   "parentLayerId": -1,
   "defaultVisibility": true,
   "subLayerIds": null,
   "minScale": 0,
   "maxScale": 0
  },
  {
   "id": 1,
   "name": "Properties Touching 1000' Boundary",
   "parentLayerId": -1,
   "defaultVisibility": true,
   "subLayerIds": null,
   "minScale": 10000,
   "maxScale": 0
  },
  {
   "id": 2,
   "name": "500' Boundary of Parks",
   "parentLayerId": -1,
   "defaultVisibility": true,
   "subLayerIds": null,
   "minScale": 0,
   "maxScale": 0
  },
  {
   "id": 3,
   "name": "Properties Touching 500' Boundary",
   "parentLayerId": -1,
   "defaultVisibility": true,
   "subLayerIds": null,
   "minScale": 10000,
   "maxScale": 0
  }
 ],
 "tables": [],
 "spatialReference": {
  "wkid": 102697,
  "latestWkid": 102697
 },
 "singleFusedMapCache": true,
 "tileInfo": {
  "rows": 256,
  "cols": 256,
  "dpi": 96,
  "format": "MIXED",
  "compressionQuality": 75,
  "origin": {
   "x": -16806900,
   "y": 19798600
  },
  "spatialReference": {
   "wkid": 102697,
   "latestWkid": 102697
  },
  "lods": [
   {
    "level": 0,
    "resolution": 250.7771502986111,
    "scale": 288895.277144
   },
   {
    "level": 1,
    "resolution": 125.38857514930555,
    "scale": 144447.638572
   },
   {
    "level": 2,
    "resolution": 62.694287574652776,
    "scale": 72223.819286
   },
   {
    "level": 3,
    "resolution": 31.347143787326388,
    "scale": 36111.909643
   },
   {
    "level": 4,
    "resolution": 15.673571894097222,
    "scale": 18055.954822
   },
   {
    "level": 5,
    "resolution": 7.836785947048611,
    "scale": 9027.977411
   },
   {
    "level": 6,
    "resolution": 3.9183929730902776,
    "scale": 4513.988705
   },
   {
    "level": 7,
    "resolution": 1.9591964869791667,
    "scale": 2256.994353
   },
   {
    "level": 8,
    "resolution": 0.9795982430555555,
    "scale": 1128.497176
   },
   {
    "level": 9,
    "resolution": 0.48979912152777777,
    "scale": 564.248588
   },
   {
    "level": 10,
    "resolution": 0.24489956076388888,
    "scale": 282.124294
   }
  ]
 },
 "initialExtent": {
  "xmin": 1318514.43035692,
  "ymin": 470356.1565618018,
  "xmax": 1518820.5089204272,
  "ymax": 663997.0591310769,
  "spatialReference": {
   "wkid": 102697,
   "latestWkid": 102697
  }
 },
 "fullExtent": {
  "xmin": 1324826.5389678366,
  "ymin": 461048.3030395061,
  "xmax": 1476211.0819986686,
  "ymax": 578847.6304325089,
  "spatialReference": {
   "wkid": 102697,
   "latestWkid": 102697
  }
 },
 "minScale": 288895.277144,
 "maxScale": 282.124294,
 "units": "esriFeet",
 "supportedImageFormatTypes": "PNG32,PNG24,PNG,JPG,DIB,TIFF,EMF,PS,PDF,GIF,SVG,SVGZ,BMP",
 "documentInfo": {
  "Title": "",
  "Author": "",
  "Comments": "",
  "Subject": "",
  "Category": "",
  "AntialiasingMode": "Best",
  "TextAntialiasingMode": "Force",
  "Keywords": ""
 },
 "capabilities": "Map,Query,Data",
 "supportedQueryFormats": "JSON, AMF, geoJSON",
 "exportTilesAllowed": false,
 "maxRecordCount": 1000,
 "maxImageHeight": 4096,
 "maxImageWidth": 4096,
 "supportedExtensions": "KmlServer"
}
